BEGIN:VCALENDAR
VERSION:2.0
PRODID:-//ChamberMaster//Event Calendar 2.0//EN
METHOD:PUBLISH
X-PUBLISHED-TTL:P1H
REFRESH-INTERVAL:P1H
CALSCALE:GREGORIAN
BEGIN:VTIMEZONE
TZID:America/Phoenix
BEGIN:DAYLIGHT
DTSTART:20070311T020000
TZOFFSETFROM:-0700
TZOFFSETTO:-0700
TZNAME:(UTC-07:00) Arizona
END:DAYLIGHT
BEGIN:STANDARD
DTSTART:20071104T020000
TZOFFSETFROM:-0700
TZOFFSETTO:-0700
TZNAME:(UTC-07:00) Arizona
END:STANDARD
END:VTIMEZONE
BEGIN:VEVENT
DTSTART;TZID=America/Phoenix:20260715T083000
DTEND;TZID=America/Phoenix:20260715T123000
X-MICROSOFT-CDO-ALLDAYEVENT:FALSE
SUMMARY:Ai Training With Kevin - Bullhead City
DESCRIPTION:Learn from an Industry ExpertThis training is led by Kevin Hawkins\, author of The REAL AI Guide for Real Estate Agents and a nationally recognized expert on practical AI use in real estate. His focus is helping agents use AI in ways that are effective\, responsible\, and actually work in the field.What's Included4-hour in-person training session2 live Zoom follow-up classes (1 hour each)Cost: Just $25Why This Matters for YouAI is quickly becoming a powerful tool in real estate. Agents who know how to use it effectively are:Getting more done in less timeImproving their marketing and communicationStaying competitive in a changing industryBut here's the reality\, AI is only as good as how you use it.This training is designed to help you not just learn the tools but understand how to use them properly so you can rely on them with confidence in your day-to-day business.What You'll Walk Away WithThis is a hands-on\, practical session where you'll learn:How to use AI to save hours every weekThe best ways to apply AI in your daily workflowHow to create content\, emails\, and marketing fasterHow to get better results from the tools you're already usingAnd just as important:How to use AI in a way that supports your professional judgment\, not replaces itWhere extra care is needed when using AI in client-facing workSimple guardrails to help you avoid mistakes and protect your businessThe Bottom LineAI can help you move faster and work smarter but knowing how to use it correctly is what makes the difference.This training gives you both:\n✔ The tools to gain an edge\n✔ The knowledge to use them confidently and responsiblySeats are limited! Register by May 15 and score a Golden Ticket good for one MLS "oops" (fineable error).  All attendees will also receive 4 list assist credits.
X-ALT-DESC;FMTTYPE=text/html:<!DOCTYPE html><html><head><title></title></head><body aria-disabled="false"><p style="mso-margin-top-alt:auto\;mso-margin-bottom-alt:auto\;  line-height:normal\;mso-outline-level:3\;"><strong fr-original-style="" style="font-weight: 700\;">Learn from an Industry Expert</strong></p><p style="mso-margin-top-alt:auto\;mso-margin-bottom-alt:auto\;  line-height:normal\;">This training is led by <strong fr-original-style="" style="font-weight: 700\;">Kevin Hawkins</strong>\, author of <em>The REAL AI Guide for Real Estate Agents</em> and a nationally recognized expert on practical AI use in real estate. His focus is helping agents use AI in ways that are <strong fr-original-style="" style="font-weight: 700\;">effective\, responsible\, and actually work in the field.</strong></p><p style="mso-margin-top-alt:auto\;mso-margin-bottom-alt:auto\;  line-height:normal\;"><strong fr-original-style="" style="font-weight: 700\;">What&rsquo\;s Included</strong></p><ul fr-original-style="" style="list-style-position: inside\;" type="disc"><li style="mso-margin-top-alt:auto\;mso-margin-bottom-alt:auto\;      line-height:normal\;mso-list:l0 level1 lfo1\;tab-stops:list .5in\;"><strong fr-original-style="" style="font-weight: 700\;">4-hour in-person training session</strong></li><li style="mso-margin-top-alt:auto\;mso-margin-bottom-alt:auto\;      line-height:normal\;mso-list:l0 level1 lfo1\;tab-stops:list .5in\;"><strong fr-original-style="" style="font-weight: 700\;">2 live Zoom follow-up classes (1 hour each)</strong></li></ul><p style="mso-margin-top-alt:auto\;mso-margin-bottom-alt:auto\;  line-height:normal\;"><strong fr-original-style="" style="font-weight: 700\;">Cost: Just $25</strong></p><p><strong fr-original-style="" style="font-weight: 700\;">Why This Matters for You</strong></p><p style="mso-margin-top-alt:auto\;mso-margin-bottom-alt:auto\;  line-height:normal\;">AI is quickly becoming a powerful tool in real estate. Agents who know how to use it effectively are:</p><ul fr-original-style="" style="list-style-position: inside\;" type="disc"><li style="mso-margin-top-alt:auto\;mso-margin-bottom-alt:auto\;      line-height:normal\;mso-list:l1 level1 lfo1\;tab-stops:list .5in\;">Getting more done in less time</li><li style="mso-margin-top-alt:auto\;mso-margin-bottom-alt:auto\;      line-height:normal\;mso-list:l1 level1 lfo1\;tab-stops:list .5in\;">Improving their marketing and communication</li><li style="mso-margin-top-alt:auto\;mso-margin-bottom-alt:auto\;      line-height:normal\;mso-list:l1 level1 lfo1\;tab-stops:list .5in\;">Staying competitive in a changing industry</li></ul><p style="mso-margin-top-alt:auto\;mso-margin-bottom-alt:auto\;  line-height:normal\;">But here&rsquo\;s the reality\, AI is only as good as how you use it.</p><p style="mso-margin-top-alt:auto\;mso-margin-bottom-alt:auto\;  line-height:normal\;">This training is designed to help you not just learn the tools but understand how to use them properly so you can rely on them with confidence in your day-to-day business.</p><p style="mso-margin-top-alt:auto\;mso-margin-bottom-alt:auto\;  line-height:normal\;mso-outline-level:3\;"><strong fr-original-style="" style="font-weight: 700\;">What You&rsquo\;ll Walk Away With</strong></p><p style="mso-margin-top-alt:auto\;mso-margin-bottom-alt:auto\;  line-height:normal\;">This is a hands-on\, practical session where you&rsquo\;ll learn:</p><ul fr-original-style="" style="list-style-position: inside\;" type="disc"><li style="mso-margin-top-alt:auto\;mso-margin-bottom-alt:auto\;      line-height:normal\;mso-list:l2 level1 lfo2\;tab-stops:list .5in\;">How to use AI to save hours every week</li><li style="mso-margin-top-alt:auto\;mso-margin-bottom-alt:auto\;      line-height:normal\;mso-list:l2 level1 lfo2\;tab-stops:list .5in\;">The best ways to apply AI in your daily workflow</li><li style="mso-margin-top-alt:auto\;mso-margin-bottom-alt:auto\;      line-height:normal\;mso-list:l2 level1 lfo2\;tab-stops:list .5in\;">How to create content\, emails\, and marketing faster</li><li style="mso-margin-top-alt:auto\;mso-margin-bottom-alt:auto\;      line-height:normal\;mso-list:l2 level1 lfo2\;tab-stops:list .5in\;">How to get better results from the tools you&rsquo\;re already using</li></ul><p style="mso-margin-top-alt:auto\;mso-margin-bottom-alt:auto\;  line-height:normal\;">And just as important:</p><ul fr-original-style="" style="list-style-position: inside\;" type="disc"><li style="mso-margin-top-alt:auto\;mso-margin-bottom-alt:auto\;      line-height:normal\;mso-list:l0 level1 lfo3\;tab-stops:list .5in\;">How to use AI in a way that <strong fr-original-style="" style="font-weight: 700\;">supports your professional judgment\, not replaces it</strong></li><li style="mso-margin-top-alt:auto\;mso-margin-bottom-alt:auto\;      line-height:normal\;mso-list:l0 level1 lfo3\;tab-stops:list .5in\;">Where extra care is needed when using AI in client-facing work</li><li style="mso-margin-top-alt:auto\;mso-margin-bottom-alt:auto\;      line-height:normal\;mso-list:l0 level1 lfo3\;tab-stops:list .5in\;">Simple guardrails to help you <strong fr-original-style="" style="font-weight: 700\;">avoid mistakes and protect your business</strong></li></ul><p style="mso-margin-top-alt:auto\;mso-margin-bottom-alt:auto\;  line-height:normal\;mso-outline-level:3\;"><strong fr-original-style="" style="font-weight: 700\;">The Bottom Line</strong></p><p style="mso-margin-top-alt:auto\;mso-margin-bottom-alt:auto\;  line-height:normal\;">AI can help you move faster and work smarter but knowing how to use it correctly is what makes the difference.</p><p style="mso-margin-top-alt:auto\;mso-margin-bottom-alt:auto\;  line-height:normal\;">This training gives you both:<br>✔ The tools to gain an edge<br>✔ The knowledge to use them confidently and responsibly</p><p>Seats are limited! Register by <strong fr-original-style="" style="font-weight: 700\;">May 15</strong> and score a <strong fr-original-style="" style="font-weight: 700\;">Golden Ticket</strong> good for one MLS &ldquo\;oops&rdquo\; (fineable error). &nbsp\;All attendees will also receive 4 list assist credits.</p></body></html>
LOCATION:2380 Optimum Wy Bullhead City 86429
UID:e.2476.1451203
SEQUENCE:3
DTSTAMP:20260426T025043Z
URL:https://members.wardexre.com/eventcalendar/Details/ai-training-with-kevin-bullhead-city-1718932?sourceTypeId=Hub
END:VEVENT
END:VCALENDAR
